BEGIN:VCALENDAR
VERSION:2.0
PRODID:-//ISF Andalucia - ECPv6.15.20//NONSGML v1.0//EN
CALSCALE:GREGORIAN
METHOD:PUBLISH
X-WR-CALNAME:ISF Andalucia
X-ORIGINAL-URL:https://andalucia.isf.es
X-WR-CALDESC:Eventos para ISF Andalucia
REFRESH-INTERVAL;VALUE=DURATION:PT1H
X-Robots-Tag:noindex
X-PUBLISHED-TTL:PT1H
BEGIN:VTIMEZONE
TZID:Europe/Madrid
BEGIN:DAYLIGHT
TZOFFSETFROM:+0100
TZOFFSETTO:+0200
TZNAME:CEST
DTSTART:20170326T010000
END:DAYLIGHT
BEGIN:STANDARD
TZOFFSETFROM:+0200
TZOFFSETTO:+0100
TZNAME:CET
DTSTART:20171029T010000
END:STANDARD
BEGIN:DAYLIGHT
TZOFFSETFROM:+0100
TZOFFSETTO:+0200
TZNAME:CEST
DTSTART:20180325T010000
END:DAYLIGHT
BEGIN:STANDARD
TZOFFSETFROM:+0200
TZOFFSETTO:+0100
TZNAME:CET
DTSTART:20181028T010000
END:STANDARD
BEGIN:DAYLIGHT
TZOFFSETFROM:+0100
TZOFFSETTO:+0200
TZNAME:CEST
DTSTART:20190331T010000
END:DAYLIGHT
BEGIN:STANDARD
TZOFFSETFROM:+0200
TZOFFSETTO:+0100
TZNAME:CET
DTSTART:20191027T010000
END:STANDARD
END:VTIMEZONE
BEGIN:VEVENT
DTSTART;TZID=Europe/Madrid:20180128T193000
DTEND;TZID=Europe/Madrid:20180128T220000
DTSTAMP:20260424T100629
CREATED:20180122T105927Z
LAST-MODIFIED:20180122T110058Z
UID:8010-1517167800-1517176800@andalucia.isf.es
SUMMARY:Cine - Miradas sobre el agua - "También la lluvia"
DESCRIPTION:Estaremos en la Sala Vimcorsa para participar del debate en torno a la película de Iciar Bollaín “También la lluvia”. Desde ISF trataremos de integrar nuestra visión sobre el derecho humano al agua y la merantilización de este recurso. \nLa proyección se enmarca en el ciclo Miradas del Cine sobre el Agua\, que surge de la colaboración de la Asociación CineCercano con Emacsa\, el Ayuntamiento de Córdoba y Vimcorsa. Se trata de integrar dos miradas: la cinematográfica y la de la ciudadanía sobre uno de los recursos naturales básicos para nuestra supervivencia y calidad de vida: el agua.\nDesde el 28 de enero al 17 de junio\, con una proyección mensual\, el ciclo transitará por el cine documental\, de ficción\, de autor… incluyendo películas que abordan el ámbito de los recursos hídricos a diferentes escalas: pequeñas y grandes masas de agua\, sus procesos de transformación\, movimientos\, tensiones\, problemática ecológica\, social\, económica\, política… y todo ello buscando interpelar al espectador.
URL:https://andalucia.isf.es/actividad/cine-miradas-sobre-el-agua-tambien-la-lluvia/
LOCATION:Sala Vimcorsa\, Calle Ángel de Saavedra\, 9\, Córdoba\, Córdoba\, 14003\, España
ATTACH;FMTTYPE=image/jpeg:https://andalucia.isf.es/wp-content/uploads/2018/01/cine-miradas-sobre-el-agua-tambien-la-lluvia.jpg
END:VEVENT
END:VCALENDAR