BEGIN:VCALENDAR
VERSION:2.0
PRODID:-//ISF Andalucia - ECPv6.15.20//NONSGML v1.0//EN
CALSCALE:GREGORIAN
METHOD:PUBLISH
X-WR-CALNAME:ISF Andalucia
X-ORIGINAL-URL:https://andalucia.isf.es
X-WR-CALDESC:Eventos para ISF Andalucia
REFRESH-INTERVAL;VALUE=DURATION:PT1H
X-Robots-Tag:noindex
X-PUBLISHED-TTL:PT1H
BEGIN:VTIMEZONE
TZID:Europe/Madrid
BEGIN:DAYLIGHT
TZOFFSETFROM:+0100
TZOFFSETTO:+0200
TZNAME:CEST
DTSTART:20170326T010000
END:DAYLIGHT
BEGIN:STANDARD
TZOFFSETFROM:+0200
TZOFFSETTO:+0100
TZNAME:CET
DTSTART:20171029T010000
END:STANDARD
BEGIN:DAYLIGHT
TZOFFSETFROM:+0100
TZOFFSETTO:+0200
TZNAME:CEST
DTSTART:20180325T010000
END:DAYLIGHT
BEGIN:STANDARD
TZOFFSETFROM:+0200
TZOFFSETTO:+0100
TZNAME:CET
DTSTART:20181028T010000
END:STANDARD
BEGIN:DAYLIGHT
TZOFFSETFROM:+0100
TZOFFSETTO:+0200
TZNAME:CEST
DTSTART:20190331T010000
END:DAYLIGHT
BEGIN:STANDARD
TZOFFSETFROM:+0200
TZOFFSETTO:+0100
TZNAME:CET
DTSTART:20191027T010000
END:STANDARD
END:VTIMEZONE
BEGIN:VEVENT
DTSTART;TZID=Europe/Madrid:20180303T130000
DTEND;TZID=Europe/Madrid:20180303T153000
DTSTAMP:20260424T001410
CREATED:20180223T160503Z
LAST-MODIFIED:20180223T160728Z
UID:8077-1520082000-1520091000@andalucia.isf.es
SUMMARY:Ecomercado: Taller "De la tierra a tu casa... y vuelta"
DESCRIPTION:Este sábado repetimos en el Ecomercado\, y retomamos el taller participativo De la tierra a tu casa… y vuelta\, esperando que esta vez la lluvia nos respete. En él trabajaremos sobre la trazabilidad de los alimentos\, y más allá de éstos\, de todos los productos de consumo. Si participas de esta amena actividad conocerás nuestro sistema agroalimentario\, así como nuestro. modelo de mercado a larga distancia y basado en la obsolescencia. Descubrirás una nueva dimensión en cuanto a la importancia de espacios como el ecomercado y otras iniciativas de economía social. \nEl Ecomercado se constituyó como asociación en Córdoba\, el día 11 de septiembre de 2014\, con el objeto de informar y sensibilizar a la ciudadanía en temas relacionados con la producción agroecológica y artesanal\, alimentos naturales\, el cuidado del medio ambiente y del territorio y con el consumo consciente justo y responsable. Y con el objetivo de crear un mercado estable en Córdoba\, la asociación lanzó una campaña de micromecenazgo mentorizada por el proyecto Urban Sur Money. El resultado nos emocionó: en apenas dos semanas\, recaudamos 6.615 euros de 216 mecenas\, lo que permitió el día 12 de diciembre de 2015 inaugurar el primer ecomercado estable en Córdoba. \nDirectorio de proyectos integrantes de El Ecomercado [pdf] \n“Esto del ecomercado me está recordando a mí\, hace sesenta años -yo tengo setenta y cinco- cuando empecé en La Corredera a vender con mi madre. Criábamos nosotros las cosas en la huerta y las vendíamos directamente al consumidor. Y ésto es lo mismo: del productor al consumidor.”\n– Alfonso Molina\, hortelano\, en su visita la primera edición de El ecomercado.
URL:https://andalucia.isf.es/actividad/ecomercado-tierra-casa-vuelta-2/
LOCATION:Ecomercado\, Bulevar Gran Capitán\, Córdoba\, Córdoba\, 14001\, España
ATTACH;FMTTYPE=image/jpeg:https://andalucia.isf.es/wp-content/uploads/2018/02/ecomercado-tierra-casa-vuelta-2.jpg
END:VEVENT
END:VCALENDAR