BEGIN:VCALENDAR
VERSION:2.0
PRODID:-//ISF Andalucia - ECPv6.15.20//NONSGML v1.0//EN
CALSCALE:GREGORIAN
METHOD:PUBLISH
X-WR-CALNAME:ISF Andalucia
X-ORIGINAL-URL:https://andalucia.isf.es
X-WR-CALDESC:Eventos para ISF Andalucia
REFRESH-INTERVAL;VALUE=DURATION:PT1H
X-Robots-Tag:noindex
X-PUBLISHED-TTL:PT1H
BEGIN:VTIMEZONE
TZID:Europe/Madrid
BEGIN:DAYLIGHT
TZOFFSETFROM:+0100
TZOFFSETTO:+0200
TZNAME:CEST
DTSTART:20170326T010000
END:DAYLIGHT
BEGIN:STANDARD
TZOFFSETFROM:+0200
TZOFFSETTO:+0100
TZNAME:CET
DTSTART:20171029T010000
END:STANDARD
BEGIN:DAYLIGHT
TZOFFSETFROM:+0100
TZOFFSETTO:+0200
TZNAME:CEST
DTSTART:20180325T010000
END:DAYLIGHT
BEGIN:STANDARD
TZOFFSETFROM:+0200
TZOFFSETTO:+0100
TZNAME:CET
DTSTART:20181028T010000
END:STANDARD
BEGIN:DAYLIGHT
TZOFFSETFROM:+0100
TZOFFSETTO:+0200
TZNAME:CEST
DTSTART:20190331T010000
END:DAYLIGHT
BEGIN:STANDARD
TZOFFSETFROM:+0200
TZOFFSETTO:+0100
TZNAME:CET
DTSTART:20191027T010000
END:STANDARD
END:VTIMEZONE
BEGIN:VEVENT
DTSTART;TZID=Europe/Madrid:20180419T210000
DTEND;TZID=Europe/Madrid:20180419T230000
DTSTAMP:20260421T231247
CREATED:20180416T095125Z
LAST-MODIFIED:20180416T101118Z
UID:8163-1524171600-1524178800@andalucia.isf.es
SUMMARY:Reunion grupo de Acción Local Córdoba
DESCRIPTION:Volvemos a reunirnos para preparar la próxima proyección en la Filmoteca de Andalucía y otras futuras actividades. Ven y únete a ISF Andalucía.
URL:https://andalucia.isf.es/actividad/reunion-grupo-accion-local-cordoba-2/
LOCATION:La Tejedora\, Calle Gutiérrez de los Ríos\, 10\, Córdoba\, Córdoba\, 14001\, España
ATTACH;FMTTYPE=image/jpeg:https://andalucia.isf.es/wp-content/uploads/2017/09/reunion1-e1505842258261.jpg
END:VEVENT
END:VCALENDAR