BEGIN:VCALENDAR
VERSION:2.0
PRODID:-//ISF Andalucia - ECPv6.15.20//NONSGML v1.0//EN
CALSCALE:GREGORIAN
METHOD:PUBLISH
X-ORIGINAL-URL:https://andalucia.isf.es
X-WR-CALDESC:Eventos para ISF Andalucia
REFRESH-INTERVAL;VALUE=DURATION:PT1H
X-Robots-Tag:noindex
X-PUBLISHED-TTL:PT1H
BEGIN:VTIMEZONE
TZID:Europe/Madrid
BEGIN:DAYLIGHT
TZOFFSETFROM:+0100
TZOFFSETTO:+0200
TZNAME:CEST
DTSTART:20170326T010000
END:DAYLIGHT
BEGIN:STANDARD
TZOFFSETFROM:+0200
TZOFFSETTO:+0100
TZNAME:CET
DTSTART:20171029T010000
END:STANDARD
BEGIN:DAYLIGHT
TZOFFSETFROM:+0100
TZOFFSETTO:+0200
TZNAME:CEST
DTSTART:20180325T010000
END:DAYLIGHT
BEGIN:STANDARD
TZOFFSETFROM:+0200
TZOFFSETTO:+0100
TZNAME:CET
DTSTART:20181028T010000
END:STANDARD
BEGIN:DAYLIGHT
TZOFFSETFROM:+0100
TZOFFSETTO:+0200
TZNAME:CEST
DTSTART:20190331T010000
END:DAYLIGHT
BEGIN:STANDARD
TZOFFSETFROM:+0200
TZOFFSETTO:+0100
TZNAME:CET
DTSTART:20191027T010000
END:STANDARD
END:VTIMEZONE
BEGIN:VEVENT
DTSTART;TZID=Europe/Madrid:20180719T000000
DTEND;TZID=Europe/Madrid:20180719T013000
DTSTAMP:20260420T212628
CREATED:20180629T121135Z
LAST-MODIFIED:20180709T055342Z
UID:8419-1531958400-1531963800@andalucia.isf.es
SUMMARY:Ciclo El cine te lleva al huerto – Momo
DESCRIPTION:Segunda sesión de nuestro ciclo de cine de verano junto al Huerto del Rey Moro en Sevilla.\nEste ciclo se va a realizar todos los miércoles del mes de julio a las 22.00 \nCon estas sesiones de cine se pretende crear un espacio lúdico de sensibilización. \nPara esta semana tenemos una pelicula de animación “Momo” (Johannes Schaaf\, RFA 1986) \nAdaptación de la novela homónima de Michael Ende (autor de “La historia interminable”) que narra la historia de Momo\, una niña que vivía en un viejo anfiteatro a las afueras de una gran ciudad. Momo tiene la maravillosa cualidad de saber escuchar a los demás\, por ello tiene muchos amigos que la visitan. Entre ellos están Gigi Cicerone y Beppo Barrendero\, que son sus mejores amigos. Todas las tardes\, montones de niños se acercaban al anfiteatro para jugar\, porque con Momo era imposible aburrirse. De vez en cuando\, Gigi contaba cuentos e historias increíbles\, que ni él mismo sabía como iban a acabar. Momo era muy especial; arreglaba disputas\, inventaba juegos\, reconciliaba a la gente\, y todo ello sin hablar\, sólo escuchando a los demás…
URL:https://andalucia.isf.es/actividad/ciclo-el-cine-te-lleva-al-huerto-momo/
LOCATION:Huerto del Rey Moro\, Calle Enladrillada s/n\, Sevilla\, Sevilla\, 41003
ATTACH;FMTTYPE=image/jpeg:https://andalucia.isf.es/wp-content/uploads/2018/06/isf-5-2-web.jpg
END:VEVENT
END:VCALENDAR