BEGIN:VCALENDAR
VERSION:2.0
PRODID:-//ISF Andalucia - ECPv6.15.20//NONSGML v1.0//EN
CALSCALE:GREGORIAN
METHOD:PUBLISH
X-ORIGINAL-URL:https://andalucia.isf.es
X-WR-CALDESC:Eventos para ISF Andalucia
REFRESH-INTERVAL;VALUE=DURATION:PT1H
X-Robots-Tag:noindex
X-PUBLISHED-TTL:PT1H
BEGIN:VTIMEZONE
TZID:Europe/Madrid
BEGIN:DAYLIGHT
TZOFFSETFROM:+0100
TZOFFSETTO:+0200
TZNAME:CEST
DTSTART:20170326T010000
END:DAYLIGHT
BEGIN:STANDARD
TZOFFSETFROM:+0200
TZOFFSETTO:+0100
TZNAME:CET
DTSTART:20171029T010000
END:STANDARD
BEGIN:DAYLIGHT
TZOFFSETFROM:+0100
TZOFFSETTO:+0200
TZNAME:CEST
DTSTART:20180325T010000
END:DAYLIGHT
BEGIN:STANDARD
TZOFFSETFROM:+0200
TZOFFSETTO:+0100
TZNAME:CET
DTSTART:20181028T010000
END:STANDARD
BEGIN:DAYLIGHT
TZOFFSETFROM:+0100
TZOFFSETTO:+0200
TZNAME:CEST
DTSTART:20190331T010000
END:DAYLIGHT
BEGIN:STANDARD
TZOFFSETFROM:+0200
TZOFFSETTO:+0100
TZNAME:CET
DTSTART:20191027T010000
END:STANDARD
END:VTIMEZONE
BEGIN:VEVENT
DTSTART;TZID=Europe/Madrid:20180407T130000
DTEND;TZID=Europe/Madrid:20180407T160000
DTSTAMP:20260420T231032
CREATED:20180402T084348Z
LAST-MODIFIED:20180402T084348Z
UID:8141-1523106000-1523116800@andalucia.isf.es
SUMMARY:Ecomercado: Taller “De la tierra a tu casa… y vuelta”
DESCRIPTION:¡Este próximo sábado 7 de abril repetimos en el Ecomercado! Esperemos que la lluvia nos dé tregua y podamos realizar esta actividad con las personas que se acerquen a realizar sus compras. Volveremos a hacer el taller participativo ‘De la tierra a tu casa… y vuelta’. \nEn él trabajaremos sobre la trazabilidad de los alimentos y de otros productos de consumo. Te animamos a participar en esta amena actividad para conocer nuestro sistema agroalimentario\, así como nuestro modelo de mercado a larga distancia y basado en la obsolescencia.\nDescubrirás una nueva dimensión en cuanto a la importancia de espacios como el ecomercado y otras iniciativas de economía social. \nEl Ecomercado se constituyó como asociación en Córdoba\, el día 11 de septiembre de 2014\, con el objeto de informar y sensibilizar a la ciudadanía en temas relacionados con la producción agroecológica y artesanal\, alimentos naturales\, el cuidado del medio ambiente y del territorio y con el consumo consciente justo y responsable. Y con el objetivo de crear un mercado estable en Córdoba\, la asociación lanzó una campaña de micromecenazgo mentorizada por el proyecto Urban Sur Money. El resultado nos emocionó: en apenas dos semanas\, recaudamos 6.615 euros de 216 mecenas\, lo que permitió el día 12 de diciembre de 2015 inaugurar el primer ecomercado estable en Córdoba.
URL:https://andalucia.isf.es/actividad/ecomercado-taller-la-tierra-casa-vuelta/
LOCATION:Ecomercado\, Bulevar Gran Capitán\, Córdoba\, Córdoba\, 14001\, España
ATTACH;FMTTYPE=image/jpeg:https://andalucia.isf.es/wp-content/uploads/2018/04/photo_2018-04-02_11-54-52.jpg
END:VEVENT
BEGIN:VEVENT
DTSTART;TZID=Europe/Madrid:20180412T210000
DTEND;TZID=Europe/Madrid:20180412T230000
DTSTAMP:20260420T231032
CREATED:20180406T065039Z
LAST-MODIFIED:20180406T065039Z
UID:8149-1523566800-1523574000@andalucia.isf.es
SUMMARY:Charla-Coloquio: "Cementerio nuclear El Cabril y centrales en España"
DESCRIPTION:El próximo jueves 12 de abril la Asamblea Antinuclear de Córdoba\, de la cual ISF Andalucía forma parte\, organiza un acto público en un entorno tan conocido en la ciudad de Córdoba como es la Biblioteca Central.\nTres activistas antinucleares de larga trayectoria explicarán todo lo relacionado con la energía nuclear y más en profundidad\, el problema que sigue sin resolverse de los residuos y cementerios nucleares. Como caso concreto de esta problemática\, y cercano a la ciudadanía cordobesa\, expondrán el papel y estado actual del cementario nuclear El Cabril. \nComo siempre os invitamos a participar ¡te esperamos! \nPresenta y modera el acto: María Eugenia Vílchez \nPONENTES: \nPaco Castejón: Situación\, perspectivas y propuestas de la centrales nucleares en España.\nDoctor en Física\, investiga sobre fusión nuclear en el Centro de Investigación Energética\, de Medio Ambiente y de Tecnología (CIEMAT) y a su vez forma parte del grupo fundador Movimiento Ibérico Antinuclear y de Ecologistas en Acción. \nYolanda Picazo: Los residuos radiactivos de alta actividad en nuestro país\, el ATC y ATIs.\nTécnica supervisora de instalaciones radioactivas por el CIEMAT\, activista antinuclear forjada en la Plataforma contra el Cementerio Nuclear en Cuenca contra el Almacenamiento Temporal Centralizado\, ATC. Forma parte del grupo fundador del Movimiento Ibérico Antinuclear y de la red Ecofeminista. \nPepe Larios: Residuos radiactivos de media y baja actividad. El Cabril y otros emplazamientos en Andalucía.\nActivista antinuclear desde 1979\, miembro de la Asamblea Antinuclear de Córdoba y del grupo fundador del Movimiento Ibérico Antinuclear\, y presidente de la Fundación EQUO.
URL:https://andalucia.isf.es/actividad/charla-coloquio-cementerio-nuclear-cabril-centrales-espana/
LOCATION:Biblioteca Central\, Calle Ronda del Marrubial\, s/n\, Córdoba\, Córdoba\, 14007\, España
ATTACH;FMTTYPE=image/png:https://andalucia.isf.es/wp-content/uploads/2018/04/nuclear120418.png
END:VEVENT
BEGIN:VEVENT
DTSTART;TZID=Europe/Madrid:20180419T210000
DTEND;TZID=Europe/Madrid:20180419T230000
DTSTAMP:20260420T231032
CREATED:20180416T095125Z
LAST-MODIFIED:20180416T101118Z
UID:8163-1524171600-1524178800@andalucia.isf.es
SUMMARY:Reunion grupo de Acción Local Córdoba
DESCRIPTION:Volvemos a reunirnos para preparar la próxima proyección en la Filmoteca de Andalucía y otras futuras actividades. Ven y únete a ISF Andalucía.
URL:https://andalucia.isf.es/actividad/reunion-grupo-accion-local-cordoba-2/
LOCATION:La Tejedora\, Calle Gutiérrez de los Ríos\, 10\, Córdoba\, Córdoba\, 14001\, España
ATTACH;FMTTYPE=image/jpeg:https://andalucia.isf.es/wp-content/uploads/2017/09/reunion1-e1505842258261.jpg
END:VEVENT
BEGIN:VEVENT
DTSTART;TZID=Europe/Madrid:20180423T200000
DTEND;TZID=Europe/Madrid:20180423T220000
DTSTAMP:20260420T231032
CREATED:20180416T090331Z
LAST-MODIFIED:20180416T090331Z
UID:8160-1524513600-1524520800@andalucia.isf.es
SUMMARY:Cine: Les nostres energies
DESCRIPTION:Continuamos nuestro ciclo de tres proyecciones en la Filmoteca de Andalucía. Después de abordar el derecho humano al agua\, nos atrevemos con la energía. \nLes Nostres Energies quiere hacer una denuncia del actual sistema energético en Cataluña\, tanto desde el punto de vista de su escasa sostenibilidad como de su concepción poco democrática. Pretende hacer ver el conjunto de impactos ambientales que un sistema extractivista y concentrado\, basado en fuentes no renovables en su mayoría\, tiene sobre el conjunto de un territorio densamente poblado como el nuestro. \nEsta denuncia es extrapolable\, en muchos de sus aspectos (si no en todos)\, al Estado español. \nEl documental esta producido por Lazlo Topanich para Enginyeria Sense Fronteres\, y está dirigido por Miquel Carrillo.
URL:https://andalucia.isf.es/actividad/cine-les-nostres-energies/
LOCATION:Filmoteca de Andalucía en Córdoba\, Calle Medina y Corella\, 5\, Córdoba\, Córdoba\, 14003\, España
ATTACH;FMTTYPE=image/jpeg:https://andalucia.isf.es/wp-content/uploads/2018/04/les-nostres-energies.jpg
END:VEVENT
END:VCALENDAR