BEGIN:VCALENDAR
VERSION:2.0
PRODID:-//ISF Andalucia - ECPv6.15.20//NONSGML v1.0//EN
CALSCALE:GREGORIAN
METHOD:PUBLISH
X-WR-CALNAME:ISF Andalucia
X-ORIGINAL-URL:https://andalucia.isf.es
X-WR-CALDESC:Eventos para ISF Andalucia
REFRESH-INTERVAL;VALUE=DURATION:PT1H
X-Robots-Tag:noindex
X-PUBLISHED-TTL:PT1H
BEGIN:VTIMEZONE
TZID:Europe/Madrid
BEGIN:DAYLIGHT
TZOFFSETFROM:+0100
TZOFFSETTO:+0200
TZNAME:CEST
DTSTART:20170326T010000
END:DAYLIGHT
BEGIN:STANDARD
TZOFFSETFROM:+0200
TZOFFSETTO:+0100
TZNAME:CET
DTSTART:20171029T010000
END:STANDARD
BEGIN:DAYLIGHT
TZOFFSETFROM:+0100
TZOFFSETTO:+0200
TZNAME:CEST
DTSTART:20180325T010000
END:DAYLIGHT
BEGIN:STANDARD
TZOFFSETFROM:+0200
TZOFFSETTO:+0100
TZNAME:CET
DTSTART:20181028T010000
END:STANDARD
BEGIN:DAYLIGHT
TZOFFSETFROM:+0100
TZOFFSETTO:+0200
TZNAME:CEST
DTSTART:20190331T010000
END:DAYLIGHT
BEGIN:STANDARD
TZOFFSETFROM:+0200
TZOFFSETTO:+0100
TZNAME:CET
DTSTART:20191027T010000
END:STANDARD
END:VTIMEZONE
BEGIN:VEVENT
DTSTART;TZID=Europe/Madrid:20180507T220000
DTEND;TZID=Europe/Madrid:20180507T233000
DTSTAMP:20260419T172400
CREATED:20180504T080813Z
LAST-MODIFIED:20180504T080813Z
UID:8248-1525730400-1525735800@andalucia.isf.es
SUMMARY:Reunion grupo de Acción Local Sevilla
DESCRIPTION:¡Volvemos a la acción!\n¿La primavera te activa? ¡Estás de suerte!\nEl próximo lunes 7 de mayo volvemos a reunirnos el grupo de acción local en Sevilla para pensar y planear las actividades de los próximos meses.\n¡Qué mejor momento para acercarte y conocer de primera mano ISF Andalucía!.\n¡Te esperamos!
URL:https://andalucia.isf.es/actividad/reunion-grupo-accion-local-sevilla/
LOCATION:Tramallol\, Pasaje Mallol\, 22\, Sevilla\, Andalucía\, 41003\, España
ATTACH;FMTTYPE=image/jpeg:https://andalucia.isf.es/wp-content/uploads/2017/11/Reunion-voluntariado-sevilla.jpg
END:VEVENT
BEGIN:VEVENT
DTSTART;TZID=Europe/Madrid:20180513T120000
DTEND;TZID=Europe/Madrid:20180513T160000
DTSTAMP:20260419T172400
CREATED:20180426T094602Z
LAST-MODIFIED:20180510T075448Z
UID:8185-1526212800-1526227200@andalucia.isf.es
SUMMARY:Asamblea general de socias y socios
DESCRIPTION:Nos es grato convocar nuestra Asamblea General de Socias y Socios\, que tendrá lugar el domingo 13 de mayo de 2018\, a las 10:00h en primera convocatoria y 10:30h en segunda convocatoria \nEl orden del día propuesto para la asamblea es el siguiente: \n\nLectura y aprobación del acta de la asamblea anterior.\nLectura y aprobación del orden del día.\nMemoria de actividades del 2017.\nPresentación y aprobación del balance económico a 31 de diciembre de 2017.\nEntradas y salidas de socias y socios a 31 de diciembre de 2017.\nPresentación y aprobación del presupuesto de 2018.\nPresentación y aprobación de la planificación de actividades de 2018.\nPresentación y aprobación de nuevos cargos en la Junta Directiva\, si procede.\nRuegos y preguntas.\n\nFoto: Øyvind Holmstad con licencia CC BY-SA 4.0
URL:https://andalucia.isf.es/actividad/asamblea-general-socias-socios-2/
LOCATION:Sede de Madre Coraje en Granada\, Plaza María Josefa Recio s/n\, Granada\, Granada\, 18013\, España
ATTACH;FMTTYPE=image/jpeg:https://andalucia.isf.es/wp-content/uploads/2018/04/asamblea.jpg
END:VEVENT
BEGIN:VEVENT
DTSTART;TZID=Europe/Madrid:20180517T190000
DTEND;TZID=Europe/Madrid:20180517T210000
DTSTAMP:20260419T172400
CREATED:20180504T050941Z
LAST-MODIFIED:20180507T111822Z
UID:8242-1526583600-1526590800@andalucia.isf.es
SUMMARY:Presentación en Cádiz de ISF Andalucía
DESCRIPTION:Desembarcamos en Cádiz\, una ciudad en la que históricamente hemos tenido voluntariado esporádico\, pero de gran peso y aportación para la organización. En esta ocasión intentaremos activar un grupo de Acción Local\, para lo cual convocamos una presentación que tendrá lugar el próximo jueves 17 de mayo\, en el Salón de Grados de la Escuela Superior de Ingeniería de Puerto Real. \nEstamos trabajando en coordinación con el Area de Cooperación de la UCA para dar la máxima difusión al evento. Si vives en Cádiz y tienes ganas de participar\, es tu momento. \nEs importante que sepas que ISF tiene como señas de identidad un voluntariado activo y empoderado\, y que nos organizamos desde la democracia de base\, para gestionar toda la organización. No hay jefas ni jefes\, en ISF decides tú con la libertad y la responsabilidad que eso implica. Y así\, aprendiendo poco a poco como es esta lógica en la que todas decidimos\, llevamos desde 1994\, con presencia en casi todo el territorio del Estado español\, a través de sedes autónomas que dependen de asociaciones organizadas a nivel de comunidad autónoma. En tu caso\, empezarías a participar de ISF Andalucía desde un grupo de Acción Local en Cádiz. \nNo lo dudes\, te esperamos\, no pierdes nada por informarte y… ¿quien sabe? igual es el principio de tu #ExperienciaISF.
URL:https://andalucia.isf.es/actividad/presentacion-cadiz-isf-andalucia/
LOCATION:Salón de Grados de la ESI de Puerto Real\, Escuela Superior de Ingeniería\, Puerto Real\, Cádiz\, 11519\, España
ATTACH;FMTTYPE=image/jpeg:https://andalucia.isf.es/wp-content/uploads/2018/05/Presentacion-cadiz-difu-electronica.jpg
END:VEVENT
BEGIN:VEVENT
DTSTART;TZID=Europe/Madrid:20180520T210000
DTEND;TZID=Europe/Madrid:20180520T233000
DTSTAMP:20260419T172400
CREATED:20180515T071208Z
LAST-MODIFIED:20180515T071208Z
UID:8260-1526850000-1526859000@andalucia.isf.es
SUMMARY:Cine: H2OMX
DESCRIPTION:Cine Cercano vuelve a contar con ISF para el coloquio posterior a la película H2OMX. Tras la grata experiencia en la proyección de También la lluvia\, retomamos esta colaboración dentro del ciclo Miradas de cine sobre agua. \nSinopsis: \nLa Ciudad de México fue fundada no cerca del agua\, sino en medio de un lago. Para dotarla de agua es necesario importarla de otros estados. Aunado a eso\, las aguas residuales se descargan en el estado de Hidalgo para su uso en la agricultura. Este es un caso de estudio del Valle de México y su lucha por mantenerse a salvo mientras su población crece.\nQueremos mostrar una pregunta y una reflexión ¿Puede una ciudad con 22 millones de habitantes –ciudad de México- volver sostenible su relación con el agua?
URL:https://andalucia.isf.es/actividad/cine-h2omx/
LOCATION:Sala Vimcorsa\, Calle Ángel de Saavedra\, 9\, Córdoba\, Córdoba\, 14003\, España
ATTACH;FMTTYPE=image/jpeg:https://andalucia.isf.es/wp-content/uploads/2018/05/cartel-H2Omx-768x575.jpg
END:VEVENT
BEGIN:VEVENT
DTSTART;TZID=Europe/Madrid:20180523T153000
DTEND;TZID=Europe/Madrid:20180523T230000
DTSTAMP:20260419T172400
CREATED:20180515T074613Z
LAST-MODIFIED:20180515T081221Z
UID:8264-1527089400-1527116400@andalucia.isf.es
SUMMARY:ISF en la Feria de Córdoba
DESCRIPTION:El próximo miércoles dia 23 nos vamos a la feria. El voluntariado de ISF tomará “La libertaria”\, la caseta de la CNT\, organización que amablemente nos ha cedido su espacio para colaborar a la financiación de ISF\, y con ello\, a conseguir nuestros objetivos. Esto se enmarca en una práctica habitual de la organización sindical\, que ofrece su caseta a diversos colectivos sociales habitualmente\, como la Acequia o el Rey Heredia. \nEmpezaremos con una perol a precio popular para llenar el estómago\, y continuaremos por la tarde hasta las 21:00\, hora en que la CNT se volverá a hacer cargo de la caseta\, para terminar la fiesta a las 23:00 con la DJ Funkcake y a las 1:00 con DJ Freddy Fred. \nEste año\, además\, “La libertaria” estará ubica en la Calle Judería\, 6\, en pleno “eje social” de la feria\, junto a la caseta de ASPA (Judería\, 7) y la del SAT/Juan23 (Judería\, 9).
URL:https://andalucia.isf.es/actividad/isf-la-feria-cordoba/
LOCATION:Caseta “La Libertaria”\, Recinto Ferial "El Arenal"\, Córdoba\, Córdoba\, España
ATTACH;FMTTYPE=image/jpeg:https://andalucia.isf.es/wp-content/uploads/2018/05/photo_2018-05-15_11-19-43.jpg
END:VEVENT
BEGIN:VEVENT
DTSTART;TZID=Europe/Madrid:20180524T210000
DTEND;TZID=Europe/Madrid:20180524T223000
DTSTAMP:20260419T172400
CREATED:20180523T064825Z
LAST-MODIFIED:20180523T070118Z
UID:8277-1527195600-1527201000@andalucia.isf.es
SUMMARY:Reunión grupo de Acción Local Cádiz
DESCRIPTION:¡Primera reunión de nuestro nuevo grupo de voluntariado!\nMañana jueves 24 de mayo a las 19.00 en la ESI de Puerto Real.\nEs una excelente ocasión para conocernos\, para pensar y planear juntas las actividades de los próximos meses.\n¡Qué mejor momento para acercarte y conocer de primera mano ISF Andalucía!.\n¡Te esperamos!
URL:https://andalucia.isf.es/actividad/reunion-grupo-accion-local-cadiz/
LOCATION:Escuela Superior de Ingeniería de Puerto Real\, Escuela Superior de Ingeniería\, Puerto Real\, Cádiz\, 11519\, España
ATTACH;FMTTYPE=image/jpeg:https://andalucia.isf.es/wp-content/uploads/2018/05/photo_2018-05-23_10-51-52.jpg
END:VEVENT
BEGIN:VEVENT
DTSTART;TZID=Europe/Madrid:20180528T220000
DTEND;TZID=Europe/Madrid:20180529T000000
DTSTAMP:20260419T172400
CREATED:20180523T063825Z
LAST-MODIFIED:20180523T063825Z
UID:8272-1527544800-1527552000@andalucia.isf.es
SUMMARY:CINE: Entre el dia i la nit no hi ha paret
DESCRIPTION:En el marco del VII Congreso internacional de agro ecología y también de nuestro ciclo de proyecciones en la Filmoteca de Andalucía\, proyectamos el primer trabajo documental del colectivo Les Espigolaores\, muy afín a ISF Valencia. \nSe trata de un documental sobre mujeres que viven o han vivido en la Huerta de Campanar\, la Partida de Dalt o en la desaparecida Partida del Pouet. A través de sus relatos se abordan sus prácticas\, saberes y experiencias de vida\, y se cuestiona la imagen masculinizada que a menudo tenemos de este territorio.El documental parte de la memoria de las mujeres y de sus subjetividades para reivindicar\, desde aquello cotidiano\, los saberes invisibilizados y desplazados que han formado parte de la construcción del territorio\, y se presenta como una herramienta desde la que repensar el presente. Una mirada crítica sobre el modelo de desarrollo urbanístico llevado a cabo en las últimas décadas recorre el documental. \nMás información \n \n  \n 
URL:https://andalucia.isf.es/actividad/cine-dia-i-la-nit-no-hi-ha-paret/
LOCATION:Filmoteca de Andalucía en Córdoba\, Calle Medina y Corella\, 5\, Córdoba\, Córdoba\, 14003\, España
ATTACH;FMTTYPE=image/jpeg:https://andalucia.isf.es/wp-content/uploads/2018/05/no-hi-ha-paret.jpg
END:VEVENT
END:VCALENDAR