BEGIN:VCALENDAR
VERSION:2.0
PRODID:-//ISF Andalucia - ECPv6.15.20//NONSGML v1.0//EN
CALSCALE:GREGORIAN
METHOD:PUBLISH
X-ORIGINAL-URL:https://andalucia.isf.es
X-WR-CALDESC:Eventos para ISF Andalucia
REFRESH-INTERVAL;VALUE=DURATION:PT1H
X-Robots-Tag:noindex
X-PUBLISHED-TTL:PT1H
BEGIN:VTIMEZONE
TZID:Europe/Madrid
BEGIN:DAYLIGHT
TZOFFSETFROM:+0100
TZOFFSETTO:+0200
TZNAME:CEST
DTSTART:20180325T010000
END:DAYLIGHT
BEGIN:STANDARD
TZOFFSETFROM:+0200
TZOFFSETTO:+0100
TZNAME:CET
DTSTART:20181028T010000
END:STANDARD
BEGIN:DAYLIGHT
TZOFFSETFROM:+0100
TZOFFSETTO:+0200
TZNAME:CEST
DTSTART:20190331T010000
END:DAYLIGHT
BEGIN:STANDARD
TZOFFSETFROM:+0200
TZOFFSETTO:+0100
TZNAME:CET
DTSTART:20191027T010000
END:STANDARD
BEGIN:DAYLIGHT
TZOFFSETFROM:+0100
TZOFFSETTO:+0200
TZNAME:CEST
DTSTART:20200329T010000
END:DAYLIGHT
BEGIN:STANDARD
TZOFFSETFROM:+0200
TZOFFSETTO:+0100
TZNAME:CET
DTSTART:20201025T010000
END:STANDARD
END:VTIMEZONE
BEGIN:VEVENT
DTSTART;VALUE=DATE:20191014
DTEND;VALUE=DATE:20191202
DTSTAMP:20260420T232915
CREATED:20190930T060603Z
LAST-MODIFIED:20191001T075049Z
UID:8923-1571018400-1575161999@andalucia.isf.es
SUMMARY:Transversalizando el género en proyectos\, organizaciones y presupuestos
DESCRIPTION:Este es un curso introductorio en el que se trabajarán herramientas para poder implementar una perspectiva de género en proyectos de cooperación transformadora. \nLa finalidad del curso es reflexionar y proporcionar herramientas críticas que nos ayuden a comprender el deber de la transversalidad de género en proyectos y políticas públicas\, y como poder aplicarla de un modo transversal y efectivo. \nLos contenidos del curso se compilan en cuatro módulos que explican qué implica transversalizar el género en proyectos\, el porqué de su importancia\, y cómo estos deben pensarse y aplicarse en la formulación\, evaluación y presupuestos. Todo ello sin olvidar la importancia que tiene transversalizar el género en coherencia a como se defiende desde las instituciones y políticas públicas\, hasta las estructuras de las propias agendas y entidades de cooperación. \nPrograma \n\nMódulo 1: La transversalidad de género\n\nTema 1. Justificación y definición\nTema 2. Antecedentes de la inclusión del enfoque de género\nTema 3. Marco normativo nacional e internacional\n\n\nMódulo 2: Evaluación de programas\, proyectos y organizaciones con enfoque de género\n\nTema 1. Evaluación con enfoque de género\nTema 2. Fases de la evaluación\, aproximaciones\, elección metodológica\nTema 3. Matriz de evaluación\nTema 4. Trabajo de campo\, recogida y análisis\nTema 5. Papel del género en interpretaciones\, juicios y recomendaciones\n\n\nMódulo 3: Instrumentos para el despliegue de la transversalidad de género en proyectos y programas\n\nTema 1. Incorporación de objetivos de género en los proyectos y programas\nTema 2. Presupuestos con perspectiva de género\nTema 3. Cláusulas de género en la contratación y en la política laboral\nTema 4. Comunicación inclusiva\n\n\nMódulo 4: Planificación: Diagnóstico y plan de igualdad de género\n\nTema 1. Los planes de igualdad de género en las ONG\nTema 2. El diagnóstico como instrumento de socialización y sensibilización\nTema 3. Elaboración e implementación del PIG\nTema 4. Seguimiento y evaluación del Plan\n\n\n\nToda la información e inscripciones en la Web de Formación de ISF
URL:https://andalucia.isf.es/actividad/transversalizando-el-genero-en-proyectos-organizaciones-y-presupuestos/
LOCATION:Córdoba
ATTACH;FMTTYPE=image/jpeg:https://andalucia.isf.es/wp-content/uploads/2019/09/Curso-Genero-mini.jpg
END:VEVENT
BEGIN:VEVENT
DTSTART;TZID=Europe/Madrid:20191203T110000
DTEND;TZID=Europe/Madrid:20191203T150000
DTSTAMP:20260420T232915
CREATED:20191127T113220Z
LAST-MODIFIED:20191127T113220Z
UID:9051-1575370800-1575385200@andalucia.isf.es
SUMMARY:Feria del voluntariado solidario
DESCRIPTION:Participamos de esta actividad\, que tiene por objetivo de fomentar el Voluntariado Solidario entre la Comunidad Universitaria\, en el marco de la Agenda 2030 y de los Objetivos de Desarrollo Sostenible (ODS). \nColocaremos una mesa informativa donde contaremos a la coimunidad universitaria quiénes somos y a qué nos dedicamos. Habrá una gymkhana con regalos al terminar la actividad.
URL:https://andalucia.isf.es/actividad/feria-del-voluntariado-solidario/
LOCATION:Aulario Averroes – Campus de Rabanales\, Campus de Rabanales\, Córdoba\, Córdoba\, 14014\, España
ATTACH;FMTTYPE=image/jpeg:https://andalucia.isf.es/wp-content/uploads/2019/11/cartel-feria-vol.jpg
END:VEVENT
BEGIN:VEVENT
DTSTART;TZID=Europe/Madrid:20191204T193000
DTEND;TZID=Europe/Madrid:20191204T193000
DTSTAMP:20260420T232915
CREATED:20191126T141156Z
LAST-MODIFIED:20191126T141156Z
UID:9032-1575487800-1575487800@andalucia.isf.es
SUMMARY:Reunión grupo de acción local Sevilla
DESCRIPTION:Reunión de voluntariado para la planificación de actividades pendientes del proyecto “Andalucía Consume Crítico” y tratar la ampliación de plazo del proyecto y otros puntos pendientes (nuevos proyectos\, etc.).
URL:https://andalucia.isf.es/actividad/reunion-grupo-de-accion-local-sevilla-6/
LOCATION:Sede de la CAONGD\, Calle Leon XIII\, 9\, Sevilla\, Sevilla\, 41009\, España
ATTACH;FMTTYPE=image/jpeg:https://andalucia.isf.es/wp-content/uploads/2019/01/reunion-grupo-de-accion-local-sevilla-5.jpg
END:VEVENT
BEGIN:VEVENT
DTSTART;TZID=Europe/Madrid:20191204T200000
DTEND;TZID=Europe/Madrid:20191204T200000
DTSTAMP:20260420T232915
CREATED:20191126T142824Z
LAST-MODIFIED:20191126T152719Z
UID:9035-1575489600-1575489600@andalucia.isf.es
SUMMARY:Concentración Cumbre Social por el clima - Córdoba
DESCRIPTION:Concentración organizada por el nodo de Córdoba de la plataforma 2020 Rebelión por el clima\, dentro de la agenda descentralizada durante la Cumbre Social por el Clima en Madrid.
URL:https://andalucia.isf.es/actividad/concentracion-2020-rebelion-por-el-clima-cordoba/
LOCATION:Plaza de las Tendillas\, Plaza de las Tendillas\, Córdoba\, Córdoba\, 14002\, España
ATTACH;FMTTYPE=image/jpeg:https://andalucia.isf.es/wp-content/uploads/2019/11/2020-cordoba.jpg
END:VEVENT
BEGIN:VEVENT
DTSTART;TZID=Europe/Madrid:20191206T190000
DTEND;TZID=Europe/Madrid:20191206T190000
DTSTAMP:20260420T232915
CREATED:20191126T144048Z
LAST-MODIFIED:20191126T144925Z
UID:9041-1575658800-1575658800@andalucia.isf.es
SUMMARY:Manifestación Cumbre Social por el Clima
DESCRIPTION:Manifestación con motivo de la Cumbre Social por el Clima\, una contracumbre paralela a la COP25\, que se celebrará en Madrid.
URL:https://andalucia.isf.es/actividad/manifestacion-cumbre-social-por-el-clima/
LOCATION:Atocha\, Calle Atocha\, Madrid\, Madrid\, 28012\, España
ATTACH;FMTTYPE=image/jpeg:https://andalucia.isf.es/wp-content/uploads/2019/11/CSxC-mani.jpg
END:VEVENT
BEGIN:VEVENT
DTSTART;TZID=Europe/Madrid:20191207T130000
DTEND;TZID=Europe/Madrid:20191207T130000
DTSTAMP:20260420T232915
CREATED:20191126T145607Z
LAST-MODIFIED:20191126T152738Z
UID:9046-1575723600-1575723600@andalucia.isf.es
SUMMARY:Marcha en bici Cumbre Social por el Clima - Córdoba
DESCRIPTION:Marcha en bici organizada por el nodo de Córdoba de la plataforma 2020 Rebelión por el clima\, dentro de la agenda descentralizada durante la Cumbre Social por el Clima en Madrid.
URL:https://andalucia.isf.es/actividad/marcha-en-bici-cumbre-social-de-los-pueblos-cordoba/
LOCATION:Plaza de la Constitucion\, Plaza de la Constitución\, Córdoba\, Córdoba\, 14004\, España
ATTACH;FMTTYPE=image/jpeg:https://andalucia.isf.es/wp-content/uploads/2019/11/2020-cordoba.jpg
END:VEVENT
END:VCALENDAR