BEGIN:VCALENDAR
VERSION:2.0
PRODID:-//ISF Andalucia - ECPv6.15.20//NONSGML v1.0//EN
CALSCALE:GREGORIAN
METHOD:PUBLISH
X-WR-CALNAME:ISF Andalucia
X-ORIGINAL-URL:https://andalucia.isf.es
X-WR-CALDESC:Eventos para ISF Andalucia
REFRESH-INTERVAL;VALUE=DURATION:PT1H
X-Robots-Tag:noindex
X-PUBLISHED-TTL:PT1H
BEGIN:VTIMEZONE
TZID:Europe/Madrid
BEGIN:DAYLIGHT
TZOFFSETFROM:+0100
TZOFFSETTO:+0200
TZNAME:CEST
DTSTART:20190331T010000
END:DAYLIGHT
BEGIN:STANDARD
TZOFFSETFROM:+0200
TZOFFSETTO:+0100
TZNAME:CET
DTSTART:20191027T010000
END:STANDARD
BEGIN:DAYLIGHT
TZOFFSETFROM:+0100
TZOFFSETTO:+0200
TZNAME:CEST
DTSTART:20200329T010000
END:DAYLIGHT
BEGIN:STANDARD
TZOFFSETFROM:+0200
TZOFFSETTO:+0100
TZNAME:CET
DTSTART:20201025T010000
END:STANDARD
BEGIN:DAYLIGHT
TZOFFSETFROM:+0100
TZOFFSETTO:+0200
TZNAME:CEST
DTSTART:20210328T010000
END:DAYLIGHT
BEGIN:STANDARD
TZOFFSETFROM:+0200
TZOFFSETTO:+0100
TZNAME:CET
DTSTART:20211031T010000
END:STANDARD
END:VTIMEZONE
BEGIN:VEVENT
DTSTART;TZID=Europe/Madrid:20200205T200000
DTEND;TZID=Europe/Madrid:20200205T200000
DTSTAMP:20260421T082859
CREATED:20200114T094418Z
LAST-MODIFIED:20200114T094418Z
UID:9091-1580932800-1580932800@andalucia.isf.es
SUMMARY:Reunión grupo de Acción Local de Sevilla
DESCRIPTION:Reunión del grupo de voluntariado de Sevilla para organizar las actividades de los próximos meses
URL:https://andalucia.isf.es/actividad/reunion-grupo-de-accion-local-de-sevilla-3/
LOCATION:El gallo rojo\, Calle Viriato nº 9\, Sevilla\, 41003\, España
ATTACH;FMTTYPE=image/jpeg:https://andalucia.isf.es/wp-content/uploads/2020/01/reunion-accion-local-sevilla.jpg
END:VEVENT
BEGIN:VEVENT
DTSTART;TZID=Europe/Madrid:20200221T200000
DTEND;TZID=Europe/Madrid:20200221T200000
DTSTAMP:20260421T082859
CREATED:20200213T141745Z
LAST-MODIFIED:20200214T070828Z
UID:9108-1582315200-1582315200@andalucia.isf.es
SUMMARY:Escuela de Activistas - Agroecología y huertos urbanos: Experiencias y anhelos
DESCRIPTION:Mesa redonda donde se expondrán las experiencias de huerta urbana de Córdoba\, una estupenda oportunidad para conocer lo que se esta realizando en nuestra ciudad y poner en común el futuro que nos gustaría tener en Córdoba. \nHuertos urbanos de la Asomadilla IMGEMA – Jardín Botánico de Córdoba\nRafa Blázquez Coordinador de los Huertos Ecológicos de la Asomadilla. \nHuertos del Cordel de Écija\nRepresentante de la Asociación de Hortelanos/as HORTECA. \nHuerta del Figueroa.\nHortelana representante del proyecto \nHuerta Fuensanta (por confirmar)\nHortelano representante del proyecto \nConsejo de Distrito Poniente Norte\nRepresentante vecinal \nLa organización de la mesa redonda\, se realiza desde Ingeniería Sin Fronteras (ISF)\, enmarcada en un ciclo de charlas de la “Escuela de activistas”\, dentro del proyecto “Andalucía consume crítico”. \n[Descarga el cartel] [Descarga la información]
URL:https://andalucia.isf.es/actividad/escuela-de-activistas-agroecologia-y-huertos-urbanos-experiencias-y-anhelos/
LOCATION:Centro Cívico Vallehermoso\, Pasaje Candelaria Heredia s/n\, Córdoba\, Córdoba\, 14005\, España
ATTACH;FMTTYPE=image/jpeg:https://andalucia.isf.es/wp-content/uploads/2020/02/EA-Agroecologia-Cordoba-difuisionelectronica.jpg
END:VEVENT
END:VCALENDAR