BEGIN:VCALENDAR
VERSION:2.0
PRODID:-//ISF Andalucia - ECPv6.15.20//NONSGML v1.0//EN
CALSCALE:GREGORIAN
METHOD:PUBLISH
X-WR-CALNAME:ISF Andalucia
X-ORIGINAL-URL:https://andalucia.isf.es
X-WR-CALDESC:Eventos para ISF Andalucia
REFRESH-INTERVAL;VALUE=DURATION:PT1H
X-Robots-Tag:noindex
X-PUBLISHED-TTL:PT1H
BEGIN:VTIMEZONE
TZID:Europe/Madrid
BEGIN:DAYLIGHT
TZOFFSETFROM:+0100
TZOFFSETTO:+0200
TZNAME:CEST
DTSTART:20220327T010000
END:DAYLIGHT
BEGIN:STANDARD
TZOFFSETFROM:+0200
TZOFFSETTO:+0100
TZNAME:CET
DTSTART:20221030T010000
END:STANDARD
BEGIN:DAYLIGHT
TZOFFSETFROM:+0100
TZOFFSETTO:+0200
TZNAME:CEST
DTSTART:20230326T010000
END:DAYLIGHT
BEGIN:STANDARD
TZOFFSETFROM:+0200
TZOFFSETTO:+0100
TZNAME:CET
DTSTART:20231029T010000
END:STANDARD
BEGIN:DAYLIGHT
TZOFFSETFROM:+0100
TZOFFSETTO:+0200
TZNAME:CEST
DTSTART:20240331T010000
END:DAYLIGHT
BEGIN:STANDARD
TZOFFSETFROM:+0200
TZOFFSETTO:+0100
TZNAME:CET
DTSTART:20241027T010000
END:STANDARD
BEGIN:DAYLIGHT
TZOFFSETFROM:+0100
TZOFFSETTO:+0200
TZNAME:CEST
DTSTART:20250330T010000
END:DAYLIGHT
BEGIN:STANDARD
TZOFFSETFROM:+0200
TZOFFSETTO:+0100
TZNAME:CET
DTSTART:20251026T010000
END:STANDARD
BEGIN:DAYLIGHT
TZOFFSETFROM:+0100
TZOFFSETTO:+0200
TZNAME:CEST
DTSTART:20260329T010000
END:DAYLIGHT
BEGIN:STANDARD
TZOFFSETFROM:+0200
TZOFFSETTO:+0100
TZNAME:CET
DTSTART:20261025T010000
END:STANDARD
END:VTIMEZONE
BEGIN:VEVENT
DTSTART;TZID=Europe/Madrid:20230425T173000
DTEND;TZID=Europe/Madrid:20250717T110209
DTSTAMP:20260425T005422
CREATED:20250717T110209Z
LAST-MODIFIED:20250717T110209Z
UID:11003-1682443800-1752750129@andalucia.isf.es
SUMMARY:Taller de decrecimiento en Zaragoza
DESCRIPTION:En este taller abordamos el decrecimiento intercalando partes teóricas con dinámicas prácticas. \nCon esta metodología\, partimos de las necesidades básicas\, y mostramos cómo en nuestro modelo de desarrollo estas son sustituidas por un ideal de sociedad centrada en los mercados\, con el PIB como indicador principal. \nA partir de aquí la propuesta fue deconstruir este imaginario para volver a abordar un modelo de desarrollo centrado en las necesidades básicas.
URL:https://andalucia.isf.es/actividad/taller-de-decrecimiento-en-zaragoza/
LOCATION:Centro Joaquin Roncal\, Zaragoza
ATTACH;FMTTYPE=image/jpeg:https://andalucia.isf.es/wp-content/uploads/2025/07/dsc-0402-e1752750106873.jpg
END:VEVENT
BEGIN:VEVENT
DTSTART;TZID=Europe/Madrid:20230523T180000
DTEND;TZID=Europe/Madrid:20250717T110527
DTSTAMP:20260425T005422
CREATED:20250717T110526Z
LAST-MODIFIED:20250717T110526Z
UID:11007-1684864800-1752750327@andalucia.isf.es
SUMMARY:Taller sobre energías renovables
DESCRIPTION:De nuevo impartimos un taller para el alumnado de la universidad de Córdoba\, esta vez centrado en energías renovables. \nTransmitimos la problemática de la macrogeneración y el modelo eléctrico centralizado\, analizando dos proyectos a gran escala con alto impacto en el territorio: La construcción de una central hidroeléctrica en el Barranco del Arguineguín en Gran Canaria\, y el proyecto de parque eólico off-shore en el Mar de Ágata\, en pleno Cabo de Gata (este último ya paralizado). Visibilizamos así también los movimientos centrados en el territorio de defensa de un modo de vida frente a los impactos de estos macroproyectos. \nConcluimos hablando de alternativas centradas en la descentralización de la red\, la microgeneración y las comunidades energéticas.
URL:https://andalucia.isf.es/actividad/taller-sobre-energias-renovables/
LOCATION:Aulario Averroes – Campus de Rabanales\, Campus de Rabanales\, Córdoba\, Córdoba\, 14014\, España
ATTACH;FMTTYPE=image/jpeg:https://andalucia.isf.es/wp-content/uploads/2025/07/img-20230508-181104-1-e1752750308241.jpg
END:VEVENT
BEGIN:VEVENT
DTSTART;TZID=Europe/Madrid:20250416T180000
DTEND;TZID=Europe/Madrid:20250416T180000
DTSTAMP:20260425T005422
CREATED:20250801T163519Z
LAST-MODIFIED:20250801T163710Z
UID:11034-1744826400-1744826400@andalucia.isf.es
SUMMARY:Construyendo alternativas en el camino al colapso
DESCRIPTION:Desde la plataforma Rebelión por el Clima Córdoba convocamos un taller de debate y reflexión colectiva para explorar el camino hacia la construcción de sociedades libres de combustibles fósiles. \nDesde Rebelión por el Clima\, basándonos en los numerosos y rigurosos informes suscritos por la comunidad científica internacional\, entendemos que el mundo se enfrenta a crisis interconectadas—climática\, energética\, social\, económica—que nos acercan a un colapso civilizatorio. Sin embargo\, en lugar de rendirse al pesimismo\, podemos diseñar y construir alternativas resilientes para transitar esta crisis de manera más justa y sostenible. \nVivimos en una sociedad altamente dependiente de los combustibles fósiles. A pesar de que se van dando pasos para incorporar energías renovables\, todavía estamos en niveles muy altos de consumo de ese tipo de combustibles. Buena prueba de ello es que en la actualidad el 90% del transporte mundial depende del petróleo y no hay combustibles alternativos que nos permitan mantener este modelo de desarrollo. \nLas estructuras actuales (consumismo\, extractivismo\, desigualdad) no son sostenibles. Construir alternativas significa buscar formas de vida más resilientes\, descarbonizadas y solidarias\, que minimicen el impacto del colapso y ayuden a adaptarnos. \nLa propuesta de Rebelión en consecuencia con estos supuestos fue desarrollar una actividad en torno a la inevitabilidad del colapso civilizatorio y la necesidad de estar preparados sicológica y materialmente para enfrentarlo en las mejores condiciones posibles. \nLa actividad\, abierta a todas las personas interesadas\, se desarrolló a partir de una introducción de 20 minutos y la organización en mesas de trabajo en pequeños grupos explorando las alternativas que habrá que experimentar para afrontar en las mejores condiciones posibles las necesidades energéticas\, la vivienda\, los bienes de consumo\, la comunicación\, los servicios públicos esenciales\, la sanidad\, la educación\, los cuidados\, y otros.
URL:https://andalucia.isf.es/actividad/construyendo-alternativas-en-el-camino-al-colapso/
LOCATION:Centro Vecinal Luciana Centeno\, Costanillas\, 15\, Córdoba\, Córdoba\, 14001\, España
ATTACH;FMTTYPE=image/png:https://andalucia.isf.es/wp-content/uploads/2025/08/250424-alternativascolapso.png
END:VEVENT
END:VCALENDAR